BEGIN:VCALENDAR
VERSION:2.0
PRODID:-//Design Enterprise Skillnet - ECPv4.4.4//NONSGML v1.0//EN
CALSCALE:GREGORIAN
METHOD:PUBLISH
X-WR-CALNAME:Design Enterprise Skillnet
X-ORIGINAL-URL:http://designenterprise.ie
X-WR-CALDESC:Events for Design Enterprise Skillnet
BEGIN:VEVENT
DTSTART;TZID=UTC+0:20171109T083000
DTEND;TZID=UTC+0:20171109T173000
DTSTAMP:20171104T032850
CREATED:20170904T124615Z
LAST-MODIFIED:20171031T144534Z
UID:434-1510216200-1510248600@designenterprise.ie
SUMMARY:Design Leaders Conference
DESCRIPTION:A one day conference to recharge design and agency owners\, design and creative directors\, design and account managers\, and anyone interested in leading a design team or running a successful creative studio.\n\nTickets now on sale  →\nTicket sales close Monday 6th November\n\nThe IDI Design Enterprise Skillnet are bringing together thought leaders and subject matter experts to lead business-focused conversations and learning on the challenges of managing talent in creative environments\, building a winning culture and running a modern design practice profitably.\n\nWe'll take a deep dive into the topics that pose the greatest challenges for design and creative business owners\, directors\, partners and managers who lead design teams and run successful creative studios.\n\nAn unmissable opportunity to build your network\, share ideas and learn up to date industry trends and best practice.\n\n \n\nFor full details of the Speakers\, Talks\, and Panels\, visit:\n\nwww.designleadersconference.com
URL:http://designenterprise.ie/event/design-leaders-conference/
LOCATION:Market Square\, Smithfield\,\, Dublin 7\, Ireland
GEO:53.3489919;-6.2783431
X-APPLE-STRUCTURED-LOCATION;VALUE=URI;X-ADDRESS=Market Square Smithfield Dublin 7 Ireland;X-APPLE-RADIUS=500;X-TITLE=Market Square\, Smithfield\,:geo:-6.2783431,53.3489919
END:VEVENT
BEGIN:VEVENT
DTSTART;TZID=UTC+0:20171114T090000
DTEND;TZID=UTC+0:20171114T170000
DTSTAMP:20171104T032850
CREATED:20170504T122433Z
LAST-MODIFIED:20170831T085916Z
UID:231-1510650000-1510678800@designenterprise.ie
SUMMARY:Designs on Growth – Workshop 6
DESCRIPTION:\nThis 6 month programme will help you:\nTo effectively address your business challenges\, improve and develop your business going forward\n\nProgramme Content\n\nWorkshop 6 - Innovation: Building Competitive Advantage. Identify opportunities for innovation in your business and where to add more value\n\n\n\n\n\n\n\n\n\n\nProgramme Duration: The programme will run one day per month/6 weeks upon agreement with the group\n\nLaunch Date: April 27th & 28th 2017 and one monthly workshop in April\, May\, June\, July and September to be decided by the participants\n\nMentoring Support:  Mentoring is a critical part of the programme.  The Mentors are business specialists who have practical experience and will have a real interest in your business challenges and growth plans.\n\nPeer Learning & Support: At the beginning of each workshop\, you will have an opportunity to exchange ideas with your peers. In particular\, progress on implementation of programme best practice and also to discuss common challenges and issues.\n\nCost: IDI Members €995    non-members €1695\n\nApplication: Recruitment for this programme has now been closed. Please contact info@designenterprise.ie to register your interest for next year's course.\n\n
URL:http://designenterprise.ie/event/designs-growth-workshop-6/
END:VEVENT
END:VCALENDAR